BEGIN:VCALENDAR
VERSION:2.0
PRODID:-//DYNAREX - ECPv4.6.15//NONSGML v1.0//EN
CALSCALE:GREGORIAN
METHOD:PUBLISH
X-WR-CALNAME:DYNAREX
X-ORIGINAL-URL:https://dynarex.de
X-WR-CALDESC:Veranstaltungen für DYNAREX
BEGIN:VEVENT
DTSTART;VALUE=DATE:20180601
DTEND;VALUE=DATE:20180602
DTSTAMP:20180628T010654
CREATED:20180326T100302Z
LAST-MODIFIED:20180326T100302Z
UID:1517-1527811200-1527897599@dynarex.de
SUMMARY:33. Kfz-Sachverständigentag des BVSK
DESCRIPTION:
URL:https://dynarex.de/termin/33-kfz-sachverstaendigentag-des-bvsk/
LOCATION:Jägerallee 20\, Potsdam\, 14469
CATEGORIES:Messestand
END:VEVENT
BEGIN:VEVENT
DTSTART;TZID=Europe/Berlin:20180605T130000
DTEND;TZID=Europe/Berlin:20180605T160000
DTSTAMP:20180628T010654
CREATED:20180326T095410Z
LAST-MODIFIED:20180326T095410Z
UID:1514-1528203600-1528214400@dynarex.de
SUMMARY:Roadshow OnREX und DAT in Ostfildern
DESCRIPTION:
URL:https://dynarex.de/termin/roadshow-onrex-und-dat-in-ostfildern/
LOCATION:Helmuth-Hirth-Straße 1\, Ostfildern\, 73670\, Deutschland
CATEGORIES:Präsentationstermin
ATTACH;FMTTYPE=image/png:https://dynarex.de/app/uploads/2018/03/Roadshow2018_klein.png
ORGANIZER;CN="OnREX%20GmbH":MAILTO:info@onrex.de
END:VEVENT
END:VCALENDAR